{
 "currentVersion": 10.4,
 "serviceDescription": "appa/dtm1980",
 "name": "appa/dtm1980",
 "description": "appa/dtm1980",
 "extent": {
  "xmin": 603848.9313639818,
  "ymin": 5052989.235913843,
  "xmax": 734741.6152047314,
  "ymax": 5163011.235913843,
  "spatialReference": {
   "wkid": 25832,
   "latestWkid": 25832
  }
 },
 "initialExtent": {
  "xmin": 603848.9313639818,
  "ymin": 5052989.235913843,
  "xmax": 734741.6152047314,
  "ymax": 5163011.235913843,
  "spatialReference": {
   "wkid": 25832,
   "latestWkid": 25832
  }
 },
 "fullExtent": {
  "xmin": 603848.9313639818,
  "ymin": 5052989.235913843,
  "xmax": 734741.6152047314,
  "ymax": 5163011.235913843,
  "spatialReference": {
   "wkid": 25832,
   "latestWkid": 25832
  }
 },
 "pixelSizeX": 41.22604215456679,
 "pixelSizeY": 41.22218059198202,
 "bandCount": 3,
 "pixelType": "U8",
 "minPixelSize": 0,
 "maxPixelSize": 0,
 "copyrightText": "",
 "serviceDataType": "esriImageServiceDataTypeRGB",
 "minValues": [
  44,
  79,
  42
 ],
 "maxValues": [
  255,
  255,
  255
 ],
 "meanValues": [
  151.16861238543,
  198.48306959755,
  177.42300711289
 ],
 "stdvValues": [
  66.734035292955,
  33.348829396586,
  39.942332191787
 ],
 "objectIdField": "",
 "fields": [],
 "capabilities": "Image,Metadata,Mensuration",
 "defaultMosaicMethod": "Center",
 "allowedMosaicMethods": "",
 "sortField": "",
 "sortValue": null,
 "mosaicOperator": "First",
 "defaultCompressionQuality": 75,
 "defaultResamplingMethod": "Bilinear",
 "maxImageHeight": 4100,
 "maxImageWidth": 15000,
 "allowRasterFunction": true,
 "rasterFunctionInfos": [],
 "rasterTypeInfos": [
  {
   "name": "Raster Dataset",
   "description": "Supports all ArcGIS Raster Datasets",
   "help": ""
  }
 ],
 "mensurationCapabilities": "Basic",
 "hasHistograms": true,
 "hasColormap": false,
 "hasRasterAttributeTable": false,
 "minScale": 0,
 "maxScale": 0,
 "exportTilesAllowed": false,
 "hasMultidimensions": false,
 "supportsStatistics": false,
 "supportsAdvancedQueries": false,
 "editFieldsInfo": null,
 "ownershipBasedAccessControlForRasters": null,
 "allowComputeTiePoints": false,
 "useStandardizedQueries": true,
 "advancedQueryCapabilities": {
  "useStandardizedQueries": true,
  "supportsStatistics": false,
  "supportsOrderBy": false,
  "supportsDistinct": false,
  "supportsPagination": false
 },
 "spatialReference": {
  "wkid": 25832,
  "latestWkid": 25832
 }
}
