{
 "currentVersion": 10.4,
 "serviceDescription": "03_CTP_Edificato",
 "mapName": "Edificato",
 "description": "",
 "copyrightText": "",
 "supportsDynamicLayers": false,
 "layers": [
  {
   "id": 0,
   "name": "Linee di vestizione",
   "parentLayerId": -1,
   "defaultVisibility": true,
   "subLayerIds": [
    1,
    2,
    3
   ],
   "minScale": 0,
   "maxScale": 0
  },
  {
   "id": 1,
   "name": "Croci edifici di culto",
   "parentLayerId": 0,
   "defaultVisibility": true,
   "subLayerIds": null,
   "minScale": 25001,
   "maxScale": 0
  },
  {
   "id": 2,
   "name": "Per baracche",
   "parentLayerId": 0,
   "defaultVisibility": true,
   "subLayerIds": null,
   "minScale": 25001,
   "maxScale": 0
  },
  {
   "id": 3,
   "name": "Per tettoia pensilina ...",
   "parentLayerId": 0,
   "defaultVisibility": true,
   "subLayerIds": null,
   "minScale": 25001,
   "maxScale": 0
  },
  {
   "id": 4,
   "name": "Edificato puntuale",
   "parentLayerId": -1,
   "defaultVisibility": true,
   "subLayerIds": [
    5,
    6,
    7,
    8,
    9,
    10
   ],
   "minScale": 0,
   "maxScale": 0
  },
  {
   "id": 5,
   "name": "Monumento",
   "parentLayerId": 4,
   "defaultVisibility": true,
   "subLayerIds": null,
   "minScale": 25001,
   "maxScale": 0
  },
  {
   "id": 6,
   "name": "Torre ciminiera",
   "parentLayerId": 4,
   "defaultVisibility": true,
   "subLayerIds": null,
   "minScale": 25001,
   "maxScale": 0
  },
  {
   "id": 7,
   "name": "Silos",
   "parentLayerId": 4,
   "defaultVisibility": true,
   "subLayerIds": null,
   "minScale": 25001,
   "maxScale": 0
  },
  {
   "id": 8,
   "name": "Croce isolata tabernacolo",
   "parentLayerId": 4,
   "defaultVisibility": true,
   "subLayerIds": null,
   "minScale": 25001,
   "maxScale": 0
  },
  {
   "id": 9,
   "name": "Croce di cimitero",
   "parentLayerId": 4,
   "defaultVisibility": true,
   "subLayerIds": null,
   "minScale": 25001,
   "maxScale": 0
  },
  {
   "id": 10,
   "name": "Sito archeologico",
   "parentLayerId": 4,
   "defaultVisibility": true,
   "subLayerIds": null,
   "minScale": 25001,
   "maxScale": 0
  },
  {
   "id": 11,
   "name": "Edificato lineare",
   "parentLayerId": -1,
   "defaultVisibility": true,
   "subLayerIds": [
    12,
    13,
    14
   ],
   "minScale": 0,
   "maxScale": 0
  },
  {
   "id": 12,
   "name": "Semidiroccato rudere",
   "parentLayerId": 11,
   "defaultVisibility": true,
   "subLayerIds": null,
   "minScale": 25001,
   "maxScale": 0
  },
  {
   "id": 13,
   "name": "Linea campo sportivo",
   "parentLayerId": 11,
   "defaultVisibility": true,
   "subLayerIds": null,
   "minScale": 25001,
   "maxScale": 0
  },
  {
   "id": 14,
   "name": "Gradinata",
   "parentLayerId": 11,
   "defaultVisibility": true,
   "subLayerIds": null,
   "minScale": 25001,
   "maxScale": 0
  },
  {
   "id": 15,
   "name": "Edificato poligonale",
   "parentLayerId": -1,
   "defaultVisibility": true,
   "subLayerIds": [
    16
   ],
   "minScale": 0,
   "maxScale": 0
  },
  {
   "id": 16,
   "name": "Edificio poligonale",
   "parentLayerId": 15,
   "defaultVisibility": true,
   "subLayerIds": null,
   "minScale": 25001,
   "maxScale": 0
  }
 ],
 "tables": [],
 "spatialReference": {
  "wkid": 25832,
  "latestWkid": 25832
 },
 "singleFusedMapCache": true,
 "tileInfo": {
  "rows": 256,
  "cols": 256,
  "dpi": 96,
  "format": "PNG32",
  "compressionQuality": 0,
  "origin": {
   "x": -5120900,
   "y": 9998100
  },
  "spatialReference": {
   "wkid": 25832,
   "latestWkid": 25832
  },
  "lods": [
   {
    "level": 0,
    "resolution": 211.66709000084668,
    "scale": 800000
   },
   {
    "level": 1,
    "resolution": 13.229193125052918,
    "scale": 50000
   },
   {
    "level": 2,
    "resolution": 6.614596562526459,
    "scale": 25000
   },
   {
    "level": 3,
    "resolution": 5.291677250021167,
    "scale": 20000
   },
   {
    "level": 4,
    "resolution": 3.9687579375158752,
    "scale": 15000
   },
   {
    "level": 5,
    "resolution": 2.6458386250105836,
    "scale": 10000
   },
   {
    "level": 6,
    "resolution": 1.9843789687579376,
    "scale": 7500
   },
   {
    "level": 7,
    "resolution": 1.3229193125052918,
    "scale": 5000
   },
   {
    "level": 8,
    "resolution": 0.5291677250021167,
    "scale": 2000
   },
   {
    "level": 9,
    "resolution": 0.26458386250105836,
    "scale": 1000
   }
  ]
 },
 "initialExtent": {
  "xmin": 598891.3123566178,
  "ymin": 5085925.659449362,
  "xmax": 743431.8996433816,
  "ymax": 5161086.7648384785,
  "spatialReference": {
   "wkid": 25832,
   "latestWkid": 25832
  }
 },
 "fullExtent": {
  "xmin": 613605.1851000004,
  "ymin": 5060845.4813,
  "xmax": 728408.3671000004,
  "ymax": 5155116.108999999,
  "spatialReference": {
   "wkid": 25832,
   "latestWkid": 25832
  }
 },
 "minScale": 800000,
 "maxScale": 1000,
 "units": "esriMeters",
 "supportedImageFormatTypes": "PNG32,PNG24,PNG,JPG,DIB,TIFF,EMF,PS,PDF,GIF,SVG,SVGZ,BMP",
 "documentInfo": {
  "Title": "03_ctp_edificato",
  "Author": "",
  "Comments": "03_CTP_Edificato",
  "Subject": "03_CTP_Edificato",
  "Category": "",
  "AntialiasingMode": "None",
  "TextAntialiasingMode": "Force",
  "Keywords": "CTP20"
 },
 "capabilities": "Map,Query,Data",
 "supportedQueryFormats": "JSON, AMF, geoJSON",
 "exportTilesAllowed": false,
 "maxRecordCount": 1000,
 "maxImageHeight": 4096,
 "maxImageWidth": 4096,
 "tileServers": "",
 "supportedExtensions": ""
}
