{
 "currentVersion": 10.4,
 "serviceDescription": "06_CTP_Idrografia",
 "mapName": "Idrografia",
 "description": "",
 "copyrightText": "",
 "supportsDynamicLayers": false,
 "layers": [
  {
   "id": 0,
   "name": "Sorgenti - pozzi",
   "parentLayerId": -1,
   "defaultVisibility": true,
   "subLayerIds": [
    1,
    2
   ],
   "minScale": 0,
   "maxScale": 0
  },
  {
   "id": 1,
   "name": "Sorgente",
   "parentLayerId": 0,
   "defaultVisibility": true,
   "subLayerIds": null,
   "minScale": 25001,
   "maxScale": 0
  },
  {
   "id": 2,
   "name": "Pozzo",
   "parentLayerId": 0,
   "defaultVisibility": true,
   "subLayerIds": null,
   "minScale": 25001,
   "maxScale": 0
  },
  {
   "id": 3,
   "name": "Lago",
   "parentLayerId": -1,
   "defaultVisibility": true,
   "subLayerIds": null,
   "minScale": 25001,
   "maxScale": 0
  },
  {
   "id": 4,
   "name": "Corso acqua rappresentabile",
   "parentLayerId": -1,
   "defaultVisibility": true,
   "subLayerIds": null,
   "minScale": 25001,
   "maxScale": 0
  },
  {
   "id": 5,
   "name": "Corso acqua non rappresentabile",
   "parentLayerId": -1,
   "defaultVisibility": true,
   "subLayerIds": null,
   "minScale": 25001,
   "maxScale": 0
  },
  {
   "id": 6,
   "name": "Altro",
   "parentLayerId": -1,
   "defaultVisibility": true,
   "subLayerIds": [
    7,
    8,
    9,
    10,
    11,
    12,
    13,
    14,
    15,
    16,
    17,
    18,
    19,
    20,
    21
   ],
   "minScale": 0,
   "maxScale": 0
  },
  {
   "id": 7,
   "name": "Canaletta irrigua, scolina",
   "parentLayerId": 6,
   "defaultVisibility": true,
   "subLayerIds": null,
   "minScale": 25001,
   "maxScale": 0
  },
  {
   "id": 8,
   "name": "Presa di acquedotto",
   "parentLayerId": 6,
   "defaultVisibility": true,
   "subLayerIds": null,
   "minScale": 25001,
   "maxScale": 0
  },
  {
   "id": 9,
   "name": "Serbatoio di acquedotto",
   "parentLayerId": 6,
   "defaultVisibility": true,
   "subLayerIds": null,
   "minScale": 25001,
   "maxScale": 0
  },
  {
   "id": 10,
   "name": "Manufatto di acquedotto",
   "parentLayerId": 6,
   "defaultVisibility": true,
   "subLayerIds": null,
   "minScale": 25001,
   "maxScale": 0
  },
  {
   "id": 11,
   "name": "Fontana vasca",
   "parentLayerId": 6,
   "defaultVisibility": true,
   "subLayerIds": null,
   "minScale": 25001,
   "maxScale": 0
  },
  {
   "id": 12,
   "name": "Collettore principale",
   "parentLayerId": 6,
   "defaultVisibility": true,
   "subLayerIds": null,
   "minScale": 25001,
   "maxScale": 0
  },
  {
   "id": 13,
   "name": "Acquedotto",
   "parentLayerId": 6,
   "defaultVisibility": true,
   "subLayerIds": null,
   "minScale": 25001,
   "maxScale": 0
  },
  {
   "id": 14,
   "name": "Cascata, pescaia, briglia",
   "parentLayerId": 6,
   "defaultVisibility": true,
   "subLayerIds": null,
   "minScale": 25001,
   "maxScale": 0
  },
  {
   "id": 15,
   "name": "Diga sommita",
   "parentLayerId": 6,
   "defaultVisibility": true,
   "subLayerIds": null,
   "minScale": 25001,
   "maxScale": 0
  },
  {
   "id": 16,
   "name": "Diga piede",
   "parentLayerId": 6,
   "defaultVisibility": true,
   "subLayerIds": null,
   "minScale": 25001,
   "maxScale": 0
  },
  {
   "id": 17,
   "name": "Condotta forzata scoperta",
   "parentLayerId": 6,
   "defaultVisibility": true,
   "subLayerIds": null,
   "minScale": 25001,
   "maxScale": 0
  },
  {
   "id": 18,
   "name": "Condotta forzata sotterranea",
   "parentLayerId": 6,
   "defaultVisibility": true,
   "subLayerIds": null,
   "minScale": 25001,
   "maxScale": 0
  },
  {
   "id": 19,
   "name": "Isola",
   "parentLayerId": 6,
   "defaultVisibility": true,
   "subLayerIds": null,
   "minScale": 25001,
   "maxScale": 0
  },
  {
   "id": 20,
   "name": "Palude stagno torbiera",
   "parentLayerId": 6,
   "defaultVisibility": true,
   "subLayerIds": null,
   "minScale": 25001,
   "maxScale": 0
  },
  {
   "id": 21,
   "name": "Vasca, piscina",
   "parentLayerId": 6,
   "defaultVisibility": true,
   "subLayerIds": null,
   "minScale": 25001,
   "maxScale": 0
  }
 ],
 "tables": [],
 "spatialReference": {
  "wkid": 25832,
  "latestWkid": 25832
 },
 "singleFusedMapCache": true,
 "tileInfo": {
  "rows": 256,
  "cols": 256,
  "dpi": 96,
  "format": "PNG32",
  "compressionQuality": 0,
  "origin": {
   "x": -5120900,
   "y": 9998100
  },
  "spatialReference": {
   "wkid": 25832,
   "latestWkid": 25832
  },
  "lods": [
   {
    "level": 0,
    "resolution": 211.66709000084668,
    "scale": 800000
   },
   {
    "level": 1,
    "resolution": 13.229193125052918,
    "scale": 50000
   },
   {
    "level": 2,
    "resolution": 6.614596562526459,
    "scale": 25000
   },
   {
    "level": 3,
    "resolution": 5.291677250021167,
    "scale": 20000
   },
   {
    "level": 4,
    "resolution": 3.9687579375158752,
    "scale": 15000
   },
   {
    "level": 5,
    "resolution": 2.6458386250105836,
    "scale": 10000
   },
   {
    "level": 6,
    "resolution": 1.9843789687579376,
    "scale": 7500
   },
   {
    "level": 7,
    "resolution": 1.3229193125052918,
    "scale": 5000
   },
   {
    "level": 8,
    "resolution": 0.5291677250021167,
    "scale": 2000
   },
   {
    "level": 9,
    "resolution": 0.26458386250105836,
    "scale": 1000
   }
  ]
 },
 "initialExtent": {
  "xmin": 635071.1998631085,
  "ymin": 5097054.285344688,
  "xmax": 707551.2791368918,
  "ymax": 5134743.926567055,
  "spatialReference": {
   "wkid": 25832,
   "latestWkid": 25832
  }
 },
 "fullExtent": {
  "xmin": 612558.2240000004,
  "ymin": 5059667.3901,
  "xmax": 730064.2549999999,
  "ymax": 5156512,
  "spatialReference": {
   "wkid": 25832,
   "latestWkid": 25832
  }
 },
 "minScale": 800000,
 "maxScale": 1000,
 "units": "esriMeters",
 "supportedImageFormatTypes": "PNG32,PNG24,PNG,JPG,DIB,TIFF,EMF,PS,PDF,GIF,SVG,SVGZ,BMP",
 "documentInfo": {
  "Title": "06_ctp_idrografia",
  "Author": "",
  "Comments": "06_CTP_Idrografia",
  "Subject": "06_CTP_Idrografia",
  "Category": "",
  "AntialiasingMode": "None",
  "TextAntialiasingMode": "Force",
  "Keywords": "CTP20"
 },
 "capabilities": "Map,Query,Data",
 "supportedQueryFormats": "JSON, AMF, geoJSON",
 "exportTilesAllowed": false,
 "maxRecordCount": 1000,
 "maxImageHeight": 4096,
 "maxImageWidth": 4096,
 "tileServers": "",
 "supportedExtensions": ""
}
