{
 "currentVersion": 10.4,
 "serviceDescription": "Geomorfologia Lineare della carta geologica della Provincia Autonoma di Trento",
 "mapName": "CARTA GEOLOGICA",
 "description": "",
 "copyrightText": "",
 "supportsDynamicLayers": false,
 "layers": [
  {
   "id": 0,
   "name": "GEOMORFOLOGIA LINEARE",
   "parentLayerId": -1,
   "defaultVisibility": true,
   "subLayerIds": null,
   "minScale": 50001,
   "maxScale": 0
  }
 ],
 "tables": [],
 "spatialReference": {
  "wkid": 25832,
  "latestWkid": 25832
 },
 "singleFusedMapCache": true,
 "tileInfo": {
  "rows": 256,
  "cols": 256,
  "dpi": 96,
  "format": "MIXED",
  "compressionQuality": 75,
  "origin": {
   "x": -5120900,
   "y": 9998100
  },
  "spatialReference": {
   "wkid": 25832,
   "latestWkid": 25832
  },
  "lods": [
   {
    "level": 0,
    "resolution": 211.66709000084668,
    "scale": 800000
   },
   {
    "level": 1,
    "resolution": 13.229193125052918,
    "scale": 50000
   },
   {
    "level": 2,
    "resolution": 6.614596562526459,
    "scale": 25000
   },
   {
    "level": 3,
    "resolution": 5.291677250021167,
    "scale": 20000
   },
   {
    "level": 4,
    "resolution": 3.9687579375158752,
    "scale": 15000
   },
   {
    "level": 5,
    "resolution": 2.6458386250105836,
    "scale": 10000
   },
   {
    "level": 6,
    "resolution": 1.9843789687579376,
    "scale": 7500
   },
   {
    "level": 7,
    "resolution": 1.3229193125052918,
    "scale": 5000
   },
   {
    "level": 8,
    "resolution": 0.5291677250021167,
    "scale": 2000
   }
  ]
 },
 "initialExtent": {
  "xmin": 582021.2708571461,
  "ymin": 5086072.238656412,
  "xmax": 759080.7916428543,
  "ymax": 5162801.558781718,
  "spatialReference": {
   "wkid": 25832,
   "latestWkid": 25832
  }
 },
 "fullExtent": {
  "xmin": 612617.9205999998,
  "ymin": 5059580.203600001,
  "xmax": 728550.3609999997,
  "ymax": 5156771.0822,
  "spatialReference": {
   "wkid": 25832,
   "latestWkid": 25832
  }
 },
 "minScale": 800000,
 "maxScale": 2000,
 "units": "esriMeters",
 "supportedImageFormatTypes": "PNG32,PNG24,PNG,JPG,DIB,TIFF,EMF,PS,PDF,GIF,SVG,SVGZ,BMP",
 "documentInfo": {
  "Title": "",
  "Author": "",
  "Comments": "carta geologica della Provincia Autonoma di Trento",
  "Subject": "carta geologica",
  "Category": "",
  "AntialiasingMode": "None",
  "TextAntialiasingMode": "Force",
  "Keywords": "carta geologica,Geomorfologia Lineare"
 },
 "capabilities": "Map,Query,Data",
 "supportedQueryFormats": "JSON, AMF, geoJSON",
 "exportTilesAllowed": false,
 "maxRecordCount": 1000,
 "maxImageHeight": 4096,
 "maxImageWidth": 4096,
 "tileServers": "",
 "supportedExtensions": "WMSServer"
}
