{
 "currentVersion": 10.4,
 "serviceDescription": "Carta delle Indagini della Microzonazione Sismica",
 "mapName": "Indagini",
 "description": "",
 "copyrightText": "",
 "supportsDynamicLayers": true,
 "layers": [
  {
   "id": 0,
   "name": "Indagini puntuali",
   "parentLayerId": -1,
   "defaultVisibility": true,
   "subLayerIds": [
    1,
    2,
    3,
    4,
    5,
    6,
    7,
    8,
    9,
    10,
    11,
    12,
    13,
    14,
    15,
    16,
    17,
    18,
    19
   ],
   "minScale": 0,
   "maxScale": 0
  },
  {
   "id": 1,
   "name": "S",
   "parentLayerId": 0,
   "defaultVisibility": true,
   "subLayerIds": null,
   "minScale": 50001,
   "maxScale": 2000
  },
  {
   "id": 2,
   "name": "S-SITO",
   "parentLayerId": 0,
   "defaultVisibility": true,
   "subLayerIds": null,
   "minScale": 50001,
   "maxScale": 2000
  },
  {
   "id": 3,
   "name": "S-INDAGINI",
   "parentLayerId": 0,
   "defaultVisibility": true,
   "subLayerIds": null,
   "minScale": 50001,
   "maxScale": 2000
  },
  {
   "id": 4,
   "name": "S-PARAMETRI",
   "parentLayerId": 0,
   "defaultVisibility": true,
   "subLayerIds": null,
   "minScale": 50001,
   "maxScale": 2000
  },
  {
   "id": 5,
   "name": "SS",
   "parentLayerId": 0,
   "defaultVisibility": true,
   "subLayerIds": null,
   "minScale": 50001,
   "maxScale": 2000
  },
  {
   "id": 6,
   "name": "SS-SITO",
   "parentLayerId": 0,
   "defaultVisibility": true,
   "subLayerIds": null,
   "minScale": 50001,
   "maxScale": 2000
  },
  {
   "id": 7,
   "name": "SS-INDAGINI",
   "parentLayerId": 0,
   "defaultVisibility": true,
   "subLayerIds": null,
   "minScale": 50001,
   "maxScale": 2000
  },
  {
   "id": 8,
   "name": "SS-PARAMETRI",
   "parentLayerId": 0,
   "defaultVisibility": true,
   "subLayerIds": null,
   "minScale": 50001,
   "maxScale": 2000
  },
  {
   "id": 9,
   "name": "PA",
   "parentLayerId": 0,
   "defaultVisibility": true,
   "subLayerIds": null,
   "minScale": 50001,
   "maxScale": 2000
  },
  {
   "id": 10,
   "name": "PA-SITO",
   "parentLayerId": 0,
   "defaultVisibility": true,
   "subLayerIds": null,
   "minScale": 50001,
   "maxScale": 2000
  },
  {
   "id": 11,
   "name": "PA-INDAGINI",
   "parentLayerId": 0,
   "defaultVisibility": true,
   "subLayerIds": null,
   "minScale": 50001,
   "maxScale": 2000
  },
  {
   "id": 12,
   "name": "PA-PARAMETRI",
   "parentLayerId": 0,
   "defaultVisibility": true,
   "subLayerIds": null,
   "minScale": 50001,
   "maxScale": 2000
  },
  {
   "id": 13,
   "name": "DH",
   "parentLayerId": 0,
   "defaultVisibility": true,
   "subLayerIds": null,
   "minScale": 50001,
   "maxScale": 2000
  },
  {
   "id": 14,
   "name": "DH-SITO",
   "parentLayerId": 0,
   "defaultVisibility": true,
   "subLayerIds": null,
   "minScale": 50001,
   "maxScale": 2000
  },
  {
   "id": 15,
   "name": "DH-INDAGINI",
   "parentLayerId": 0,
   "defaultVisibility": true,
   "subLayerIds": null,
   "minScale": 50001,
   "maxScale": 2000
  },
  {
   "id": 16,
   "name": "HVSR",
   "parentLayerId": 0,
   "defaultVisibility": true,
   "subLayerIds": null,
   "minScale": 50001,
   "maxScale": 2000
  },
  {
   "id": 17,
   "name": "HVSR-SITO",
   "parentLayerId": 0,
   "defaultVisibility": true,
   "subLayerIds": null,
   "minScale": 50001,
   "maxScale": 2000
  },
  {
   "id": 18,
   "name": "HVSR-INDAGINI",
   "parentLayerId": 0,
   "defaultVisibility": true,
   "subLayerIds": null,
   "minScale": 50001,
   "maxScale": 2000
  },
  {
   "id": 19,
   "name": "HVSR-PARAMETRI",
   "parentLayerId": 0,
   "defaultVisibility": true,
   "subLayerIds": null,
   "minScale": 50001,
   "maxScale": 2000
  },
  {
   "id": 20,
   "name": "Indagini Lineari",
   "parentLayerId": -1,
   "defaultVisibility": true,
   "subLayerIds": null,
   "minScale": 50001,
   "maxScale": 2000
  },
  {
   "id": 21,
   "name": "Indagini Lineari-SITO",
   "parentLayerId": -1,
   "defaultVisibility": true,
   "subLayerIds": null,
   "minScale": 50001,
   "maxScale": 2000
  },
  {
   "id": 22,
   "name": "Indagini Lineari-INDAGINI",
   "parentLayerId": -1,
   "defaultVisibility": true,
   "subLayerIds": null,
   "minScale": 50001,
   "maxScale": 2000
  },
  {
   "id": 23,
   "name": "Indagini Lineari- PARAMETRI",
   "parentLayerId": -1,
   "defaultVisibility": true,
   "subLayerIds": null,
   "minScale": 50001,
   "maxScale": 2000
  }
 ],
 "tables": [],
 "spatialReference": {
  "wkid": 25832,
  "latestWkid": 25832
 },
 "singleFusedMapCache": true,
 "tileInfo": {
  "rows": 256,
  "cols": 256,
  "dpi": 96,
  "format": "MIXED",
  "compressionQuality": 75,
  "origin": {
   "x": -5120900,
   "y": 9998100
  },
  "spatialReference": {
   "wkid": 25832,
   "latestWkid": 25832
  },
  "lods": [
   {
    "level": 0,
    "resolution": 211.66709000084668,
    "scale": 800000
   },
   {
    "level": 1,
    "resolution": 13.229193125052918,
    "scale": 50000
   },
   {
    "level": 2,
    "resolution": 6.614596562526459,
    "scale": 25000
   },
   {
    "level": 3,
    "resolution": 5.291677250021167,
    "scale": 20000
   },
   {
    "level": 4,
    "resolution": 3.9687579375158752,
    "scale": 15000
   },
   {
    "level": 5,
    "resolution": 2.6458386250105836,
    "scale": 10000
   },
   {
    "level": 6,
    "resolution": 1.9843789687579376,
    "scale": 7500
   },
   {
    "level": 7,
    "resolution": 1.3229193125052918,
    "scale": 5000
   },
   {
    "level": 8,
    "resolution": 0.5291677250021167,
    "scale": 2000
   }
  ]
 },
 "initialExtent": {
  "xmin": 587524.6151971678,
  "ymin": 5086594.381381413,
  "xmax": 753577.4473028322,
  "ymax": 5162265.366056716,
  "spatialReference": {
   "wkid": 25832,
   "latestWkid": 25832
  }
 },
 "fullExtent": {
  "xmin": 614753,
  "ymin": 5061134.609999999,
  "xmax": 726327.1699999999,
  "ymax": 5154217.470000001,
  "spatialReference": {
   "wkid": 25832,
   "latestWkid": 25832
  }
 },
 "minScale": 800000,
 "maxScale": 2000,
 "units": "esriMeters",
 "supportedImageFormatTypes": "PNG32,PNG24,PNG,JPG,DIB,TIFF,EMF,PS,PDF,GIF,SVG,SVGZ,BMP",
 "documentInfo": {
  "Title": "60160.mxd",
  "Author": "pr34400",
  "Comments": "Carta delle Indagini della Microzonazione Sismica",
  "Subject": "Carta delle Indagini",
  "Category": "",
  "AntialiasingMode": "None",
  "TextAntialiasingMode": "Force",
  "Keywords": "Carta delle Indagini"
 },
 "capabilities": "Map,Query,Data",
 "supportedQueryFormats": "JSON, AMF, geoJSON",
 "exportTilesAllowed": false,
 "maxRecordCount": 1000,
 "maxImageHeight": 4096,
 "maxImageWidth": 4096,
 "tileServers": "",
 "supportedExtensions": "WMSServer"
}
