{
 "currentVersion": 10.4,
 "serviceDescription": "Ortofoto realizzata dalla ditta Helica tra il 2014 ed il 2016 (anno prevalente 2015). Pixel da 20 cm.",
 "name": "geologico/ortofoto_2015",
 "description": "Ortofoto realizzata dalla ditta Helica tra il 2014 ed il 2016 (anno prevalente 2015). Pixel da 20 cm.",
 "extent": {
  "xmin": 609499.8920497848,
  "ymin": 5056789.992379984,
  "xmax": 731610.1071035482,
  "ymax": 5158990.007196681,
  "spatialReference": {
   "wkid": 25832,
   "latestWkid": 25832
  }
 },
 "initialExtent": {
  "xmin": 609499.8920497848,
  "ymin": 5056789.992379984,
  "xmax": 731610.1071035482,
  "ymax": 5158990.007196681,
  "spatialReference": {
   "wkid": 25832,
   "latestWkid": 25832
  }
 },
 "fullExtent": {
  "xmin": 609499.8920497848,
  "ymin": 5056789.992379984,
  "xmax": 731610.1071035482,
  "ymax": 5158990.007196681,
  "spatialReference": {
   "wkid": 25832,
   "latestWkid": 25832
  }
 },
 "pixelSizeX": 0.2645838625010584,
 "pixelSizeY": 0.26458386250105953,
 "bandCount": 3,
 "pixelType": "U8",
 "minPixelSize": 0,
 "maxPixelSize": 0,
 "copyrightText": "",
 "serviceDataType": "esriImageServiceDataTypeRGB",
 "minValues": [],
 "maxValues": [],
 "meanValues": [],
 "stdvValues": [],
 "objectIdField": "",
 "fields": [],
 "capabilities": "Mensuration,Image,Metadata",
 "defaultMosaicMethod": "Center",
 "allowedMosaicMethods": "",
 "sortField": "",
 "sortValue": null,
 "mosaicOperator": "First",
 "defaultCompressionQuality": 75,
 "defaultResamplingMethod": "Bilinear",
 "maxImageHeight": 4100,
 "maxImageWidth": 15000,
 "allowRasterFunction": true,
 "rasterFunctionInfos": [],
 "rasterTypeInfos": [
  {
   "name": "Raster Dataset",
   "description": "Supports all ArcGIS Raster Datasets",
   "help": ""
  }
 ],
 "mensurationCapabilities": "Basic",
 "hasHistograms": false,
 "hasColormap": false,
 "hasRasterAttributeTable": false,
 "minScale": 0,
 "maxScale": 0,
 "exportTilesAllowed": false,
 "hasMultidimensions": false,
 "supportsStatistics": false,
 "supportsAdvancedQueries": false,
 "editFieldsInfo": null,
 "ownershipBasedAccessControlForRasters": null,
 "allowComputeTiePoints": false,
 "useStandardizedQueries": true,
 "advancedQueryCapabilities": {
  "useStandardizedQueries": true,
  "supportsStatistics": false,
  "supportsOrderBy": false,
  "supportsDistinct": false,
  "supportsPagination": false
 },
 "spatialReference": {
  "wkid": 25832,
  "latestWkid": 25832
 }
}
