View In:
ArcGIS JavaScript
ArcGIS Online map viewer
Google Earth
ArcMap
View Footprint In:
ArcGIS Online map viewer
Service Description: PROPRIETA' TERMOFISICHE DEL SOTTOSUOLO - conducibilità termica (W/(mK)) Provincia Trento
Name: geologico/geotermia_ct_pat_2
Description: PROPRIETA' TERMOFISICHE DEL SOTTOSUOLO - conducibilità termica (W/(mK)) Provincia Trento
Single Fused Map Cache: true
Tile Info:
- Height: 256
- Width: 256
- DPI: 96
-
Levels of Detail: 10
- Format: MIXED
- Compression Quality: 75.0
- LERC Error: NaN
- Origin: X: -5120900.0
Y: 9998100.0
- Spatial Reference: 32632
(32632)
Extent:
XMin: 612484.7973022461
YMin: 5059559.98248291
XMax: 728624.7973022461
YMax: 5157079.98248291
Spatial Reference: 32632
(32632)
Initial Extent:
XMin: 612484.7973022461
YMin: 5059559.98248291
XMax: 728624.7973022461
YMax: 5157079.98248291
Spatial Reference: 32632
(32632)
Full Extent:
XMin: 612484.7973022461
YMin: 5059559.98248291
XMax: 728624.7973022461
YMax: 5157079.98248291
Spatial Reference: 32632
(32632)
Pixel Size X: 20.0
Pixel Size Y: 20.0
Band Count: 1
Pixel Type: F32
RasterFunction Infos: {"name":"cond_term_PAT","description":"A raster function template.","help":""}, {"name":"None","description":"","help":""}
Mensuration Capabilities: Basic
Has Histograms: true
Has Colormap: false
Has Multi Dimensions : false
Rendering Rule:
Min Scale: 800000
Max Scale: 1000
Copyright Text:
Service Data Type: esriImageServiceDataTypeGeneric
Min Values: 1.7000000476837158
Max Values: 3.299999952316284
Mean Values: 0
Standard Deviation Values: -1
Object ID Field:
Fields:
None
Default Mosaic Method: Center
Allowed Mosaic Methods:
SortField:
SortValue: null
Mosaic Operator: First
Default Compression Quality: 75
Default Resampling Method: Bilinear
Max Record Count: null
Max Image Height: 4100
Max Image Width: 15000
Max Download Image Count: null
Max Mosaic Image Count: null
Allow Raster Function: true
Allow Compute TiePoints: false
Supports Statistics: false
Supports Advanced Queries: false
Use StandardizedQueries: true
Raster Type Infos:
Name: Raster Dataset
Description: Supports all ArcGIS Raster Datasets
Help:
Has Raster Attribute Table: false
Edit Fields Info: null
Ownership Based AccessControl For Rasters: null
Child Resources:
Info
Histograms
Key Properties
Legend
MultiDimensionalInfo
rasterFunctionInfos
Supported Operations:
Export Image
Identify
Measure
Compute Histograms
Compute Statistics Histograms
Get Samples
Compute Class Statistics