View In:
ArcGIS JavaScript
ArcGIS Online map viewer
Google Earth
ArcMap
View Footprint In:
ArcGIS Online map viewer
Service Description: RADIAZIONE SOLARE GLOBALE ANNUA (Wh/m2)
Name: geologico/geotermia_rs_tn_50_2
Description: RADIAZIONE SOLARE GLOBALE ANNUA (Wh/m2)
Single Fused Map Cache: true
Tile Info:
- Height: 256
- Width: 256
- DPI: 96
-
Levels of Detail: 10
- Format: MIXED
- Compression Quality: 75.0
- LERC Error: NaN
- Origin: X: -5120900.0
Y: 9998100.0
- Spatial Reference: 32632
(32632)
Extent:
XMin: 612484.8065536104
YMin: 5059580.0158289755
XMax: 728634.8065536104
YMax: 5157080.0158289755
Spatial Reference: 32632
(32632)
Initial Extent:
XMin: 612484.8065536104
YMin: 5059580.0158289755
XMax: 728634.8065536104
YMax: 5157080.0158289755
Spatial Reference: 32632
(32632)
Full Extent:
XMin: 612484.8065536104
YMin: 5059580.0158289755
XMax: 728634.8065536104
YMax: 5157080.0158289755
Spatial Reference: 32632
(32632)
Pixel Size X: 50.0
Pixel Size Y: 50.0
Band Count: 1
Pixel Type: F32
RasterFunction Infos: {"name":"rad_solare_globale_annua","description":"A raster function template.","help":""}, {"name":"None","description":"","help":""}
Mensuration Capabilities: Basic
Has Histograms: false
Has Colormap: false
Has Multi Dimensions : false
Rendering Rule:
Min Scale: 800000
Max Scale: 1000
Copyright Text:
Service Data Type: esriImageServiceDataTypeGeneric
Min Values: 67739.3828125
Max Values: 1922011.625
Mean Values: 0
Standard Deviation Values: -1
Object ID Field:
Fields:
None
Default Mosaic Method: Center
Allowed Mosaic Methods:
SortField:
SortValue: null
Mosaic Operator: First
Default Compression Quality: 75
Default Resampling Method: Bilinear
Max Record Count: null
Max Image Height: 4100
Max Image Width: 15000
Max Download Image Count: null
Max Mosaic Image Count: null
Allow Raster Function: true
Allow Compute TiePoints: false
Supports Statistics: false
Supports Advanced Queries: false
Use StandardizedQueries: true
Raster Type Infos:
Name: Raster Dataset
Description: Supports all ArcGIS Raster Datasets
Help:
Has Raster Attribute Table: false
Edit Fields Info: null
Ownership Based AccessControl For Rasters: null
Child Resources:
Info
Key Properties
Legend
MultiDimensionalInfo
rasterFunctionInfos
Supported Operations:
Export Image
Identify
Measure
Compute Histograms
Compute Statistics Histograms
Get Samples
Compute Class Statistics