View In:
ArcGIS JavaScript
ArcGIS Online map viewer
Google Earth
ArcMap
View Footprint In:
ArcGIS Online map viewer
Service Description: raster/DTM
Name: raster/DTM
Description: raster/DTM
Single Fused Map Cache: false
Extent:
XMin: 611989.6735467302
YMin: 5057990.23583161
XMax: 732009.67231718
YMax: 5158010.23583161
Spatial Reference: 25832
(25832)
Initial Extent:
XMin: 611989.6735467302
YMin: 5057990.23583161
XMax: 732009.67231718
YMax: 5158010.23583161
Spatial Reference: 25832
(25832)
Full Extent:
XMin: 611989.6735467302
YMin: 5057990.23583161
XMax: 732009.67231718
YMax: 5158010.23583161
Spatial Reference: 25832
(25832)
Pixel Size X: 0.9999999897554556
Pixel Size Y: 1.0
Band Count: 1
Pixel Type: S32
RasterFunction Infos: N/A
Mensuration Capabilities: Basic
Has Histograms: true
Has Colormap: false
Has Multi Dimensions : false
Rendering Rule:
Min Scale: 0
Max Scale: 0
Copyright Text:
Service Data Type: esriImageServiceDataTypeGeneric
Min Values: 61
Max Values: 3761
Mean Values: 1411.9661753349678
Standard Deviation Values: 667.4360185562876
Object ID Field:
Fields:
None
Default Mosaic Method: Center
Allowed Mosaic Methods:
SortField:
SortValue: null
Mosaic Operator: First
Default Compression Quality: 75
Default Resampling Method: Bilinear
Max Record Count: null
Max Image Height: 4100
Max Image Width: 15000
Max Download Image Count: null
Max Mosaic Image Count: null
Allow Raster Function: true
Allow Compute TiePoints: false
Supports Statistics: false
Supports Advanced Queries: false
Use StandardizedQueries: true
Raster Type Infos:
Name: Raster Dataset
Description: Supports all ArcGIS Raster Datasets
Help:
Has Raster Attribute Table: false
Edit Fields Info: null
Ownership Based AccessControl For Rasters: null
Child Resources:
Info
Histograms
Key Properties
Legend
MultiDimensionalInfo
rasterFunctionInfos
Supported Operations:
Export Image
Identify
Measure
Compute Histograms
Compute Statistics Histograms
Get Samples
Compute Class Statistics