View In:
ArcGIS JavaScript
ArcGIS Online map viewer
Google Earth
ArcMap
View Footprint In:
ArcGIS Online map viewer
Service Description: raster/ortofoto_2011
Name: raster/ortofoto_2011
Description: raster/ortofoto_2011
Single Fused Map Cache: true
Tile Info:
- Height: 256
- Width: 256
- DPI: 96
-
Levels of Detail: 10
- Format: MIXED
- Compression Quality: 75.0
- LERC Error: NaN
- Origin: X: -5120900.0
Y: 9998100.0
- Spatial Reference: 25832
(25832)
Extent:
XMin: 573875.7916349173
YMin: 5051469.740072813
XMax: 767403.8057742789
YMax: 5164106.794513589
Spatial Reference: 25832
(25832)
Initial Extent:
XMin: 573875.7916349173
YMin: 5051469.740072813
XMax: 767403.8057742789
YMax: 5164106.794513589
Spatial Reference: 25832
(25832)
Full Extent:
XMin: 573875.7916349173
YMin: 5051469.740072813
XMax: 767403.8057742789
YMax: 5164106.794513589
Spatial Reference: 25832
(25832)
Pixel Size X: 0.2645838625010584
Pixel Size Y: 0.26458386250105914
Band Count: 3
Pixel Type: U8
RasterFunction Infos: N/A
Mensuration Capabilities: Basic
Has Histograms: false
Has Colormap: false
Has Multi Dimensions : false
Rendering Rule:
Min Scale: -1
Max Scale: -1
Copyright Text: Ortofoto AGEA 2011 © AGEA – Agenzia per le Erogazioni in Agricoltura, Roma
Service Data Type: esriImageServiceDataTypeRGB
Min Values: N/A
Max Values: N/A
Mean Values: N/A
Standard Deviation Values: N/A
Object ID Field:
Fields:
None
Default Mosaic Method: Center
Allowed Mosaic Methods:
SortField:
SortValue: null
Mosaic Operator: First
Default Compression Quality: 75
Default Resampling Method: Bilinear
Max Record Count: null
Max Image Height: 4100
Max Image Width: 15000
Max Download Image Count: null
Max Mosaic Image Count: null
Allow Raster Function: true
Allow Compute TiePoints: false
Supports Statistics: false
Supports Advanced Queries: false
Use StandardizedQueries: true
Raster Type Infos:
Name: Raster Dataset
Description: Supports all ArcGIS Raster Datasets
Help:
Has Raster Attribute Table: false
Edit Fields Info: null
Ownership Based AccessControl For Rasters: null
Child Resources:
Info
Key Properties
Legend
MultiDimensionalInfo
rasterFunctionInfos
Supported Operations:
Export Image
Identify
Measure
Compute Histograms
Compute Statistics Histograms
Get Samples
Compute Class Statistics