View In:
ArcGIS JavaScript
ArcGIS Online map viewer
Google Earth
ArcMap
View Footprint In:
ArcGIS Online map viewer
Service Description: appa/dtm1980
Name: appa/dtm1980
Description: appa/dtm1980
Single Fused Map Cache: false
Extent:
XMin: 603848.9313639818
YMin: 5052989.235913843
XMax: 734741.6152047314
YMax: 5163011.235913843
Spatial Reference: 25832
(25832)
Initial Extent:
XMin: 603848.9313639818
YMin: 5052989.235913843
XMax: 734741.6152047314
YMax: 5163011.235913843
Spatial Reference: 25832
(25832)
Full Extent:
XMin: 603848.9313639818
YMin: 5052989.235913843
XMax: 734741.6152047314
YMax: 5163011.235913843
Spatial Reference: 25832
(25832)
Pixel Size X: 41.22604215456679
Pixel Size Y: 41.22218059198202
Band Count: 3
Pixel Type: U8
RasterFunction Infos: N/A
Mensuration Capabilities: Basic
Has Histograms: true
Has Colormap: false
Has Multi Dimensions : false
Rendering Rule:
Min Scale: 0
Max Scale: 0
Copyright Text:
Service Data Type: esriImageServiceDataTypeRGB
Min Values: 44, 79, 42
Max Values: 255, 255, 255
Mean Values: 151.16861238543, 198.48306959755, 177.42300711289
Standard Deviation Values: 66.734035292955, 33.348829396586, 39.942332191787
Object ID Field:
Fields:
None
Default Mosaic Method: Center
Allowed Mosaic Methods:
SortField:
SortValue: null
Mosaic Operator: First
Default Compression Quality: 75
Default Resampling Method: Bilinear
Max Record Count: null
Max Image Height: 4100
Max Image Width: 15000
Max Download Image Count: null
Max Mosaic Image Count: null
Allow Raster Function: true
Allow Compute TiePoints: false
Supports Statistics: false
Supports Advanced Queries: false
Use StandardizedQueries: true
Raster Type Infos:
Name: Raster Dataset
Description: Supports all ArcGIS Raster Datasets
Help:
Has Raster Attribute Table: false
Edit Fields Info: null
Ownership Based AccessControl For Rasters: null
Child Resources:
Info
Histograms
Key Properties
Legend
MultiDimensionalInfo
rasterFunctionInfos
Supported Operations:
Export Image
Identify
Measure
Compute Histograms
Compute Statistics Histograms
Get Samples
Compute Class Statistics