View In:
ArcGIS JavaScript
ArcGIS Online map viewer
Google Earth
ArcMap
View Footprint In:
ArcGIS Online map viewer
Service Description: Ortofoto realizzata dalla ditta Helica tra il 2014 ed il 2016 (anno prevalente 2015). Pixel da 20 cm.
Name: geologico/ortofoto_2015
Description: Ortofoto realizzata dalla ditta Helica tra il 2014 ed il 2016 (anno prevalente 2015). Pixel da 20 cm.
Single Fused Map Cache: false
Extent:
XMin: 609499.8920497848
YMin: 5056789.992379984
XMax: 731610.1071035482
YMax: 5158990.007196681
Spatial Reference: 25832
(25832)
Initial Extent:
XMin: 609499.8920497848
YMin: 5056789.992379984
XMax: 731610.1071035482
YMax: 5158990.007196681
Spatial Reference: 25832
(25832)
Full Extent:
XMin: 609499.8920497848
YMin: 5056789.992379984
XMax: 731610.1071035482
YMax: 5158990.007196681
Spatial Reference: 25832
(25832)
Pixel Size X: 0.2645838625010584
Pixel Size Y: 0.26458386250105953
Band Count: 3
Pixel Type: U8
RasterFunction Infos: N/A
Mensuration Capabilities: Basic
Has Histograms: false
Has Colormap: false
Has Multi Dimensions : false
Rendering Rule:
Min Scale: 0
Max Scale: 0
Copyright Text:
Service Data Type: esriImageServiceDataTypeRGB
Min Values: N/A
Max Values: N/A
Mean Values: N/A
Standard Deviation Values: N/A
Object ID Field:
Fields:
None
Default Mosaic Method: Center
Allowed Mosaic Methods:
SortField:
SortValue: null
Mosaic Operator: First
Default Compression Quality: 75
Default Resampling Method: Bilinear
Max Record Count: null
Max Image Height: 4100
Max Image Width: 15000
Max Download Image Count: null
Max Mosaic Image Count: null
Allow Raster Function: true
Allow Compute TiePoints: false
Supports Statistics: false
Supports Advanced Queries: false
Use StandardizedQueries: true
Raster Type Infos:
Name: Raster Dataset
Description: Supports all ArcGIS Raster Datasets
Help:
Has Raster Attribute Table: false
Edit Fields Info: null
Ownership Based AccessControl For Rasters: null
Child Resources:
Info
Key Properties
Legend
MultiDimensionalInfo
rasterFunctionInfos
Supported Operations:
Export Image
Identify
Measure
Compute Histograms
Compute Statistics Histograms
Get Samples
Compute Class Statistics